BEGIN:VCALENDAR
VERSION:2.0
PRODID:-//Plone.org//NONSGML plone.app.event//EN
X-WR-TIMEZONE:US/Central
BEGIN:VEVENT
SUMMARY:Annual Sale
DTSTART;TZID=US/Central:20160416T131844
DTEND;TZID=US/Central:20160417T181844
DTSTAMP:20260420T120244Z
UID:a4fb84d99f7549a6856f16f7171a4017@saas_stack_varnish:6080
ATTENDEE;CN="General Publich";ROLE=REQ-PARTICIPANT:General Publich
CONTACT:John Smith\, 555.555.1234\, John@email.com
CREATED:20151111T174730Z
DESCRIPTION:The Library's annual book sale is scheduled for 2 days. ON day
  one\, all regular size paperback books are 50 cents and all other items a
 re $1. On day two\, you can fill a bag for $5 or make a deal on a box full
  of books!
LAST-MODIFIED:20151111T174738Z
LOCATION:The Public Library
URL:https://huntington.ploud.net/news-events/events/annual-sale
END:VEVENT
BEGIN:VTIMEZONE
TZID:US/Central
X-LIC-LOCATION:US/Central
BEGIN:DAYLIGHT
DTSTART:20160313T030000
TZNAME:CDT
TZOFFSETFROM:-0600
TZOFFSETTO:-0500
END:DAYLIGHT
END:VTIMEZONE
END:VCALENDAR
